BEGIN:VCALENDAR
VERSION:2.0
PRODID:-//Supper Made Simple - ECPv6.8.3//NONSGML v1.0//EN
CALSCALE:GREGORIAN
METHOD:PUBLISH
X-ORIGINAL-URL:https://suppermadesimple.net
X-WR-CALDESC:Events for Supper Made Simple
REFRESH-INTERVAL;VALUE=DURATION:PT1H
X-Robots-Tag:noindex
X-PUBLISHED-TTL:PT1H
BEGIN:VTIMEZONE
TZID:UTC
BEGIN:STANDARD
TZOFFSETFROM:+0000
TZOFFSETTO:+0000
TZNAME:UTC
DTSTART:20200101T000000
END:STANDARD
END:VTIMEZONE
BEGIN:VEVENT
DTSTART;TZID=UTC:20200830T080000
DTEND;TZID=UTC:20200830T170000
DTSTAMP:20260424T072440
CREATED:20200823T175651Z
LAST-MODIFIED:20200823T175651Z
UID:10288-1598774400-1598806800@suppermadesimple.net
SUMMARY:Steakhouse burger
DESCRIPTION:Steakhouse burger with smokey sauce\, lettuce and tomato and vegetable macaroni salad
URL:https://suppermadesimple.net/meal/steakhouse-burger-2/
END:VEVENT
END:VCALENDAR