BEGIN:VCALENDAR
VERSION:2.0
PRODID:-//Supper Made Simple - ECPv6.8.3//NONSGML v1.0//EN
CALSCALE:GREGORIAN
METHOD:PUBLISH
X-ORIGINAL-URL:https://suppermadesimple.net
X-WR-CALDESC:Events for Supper Made Simple
REFRESH-INTERVAL;VALUE=DURATION:PT1H
X-Robots-Tag:noindex
X-PUBLISHED-TTL:PT1H
BEGIN:VTIMEZONE
TZID:UTC
BEGIN:STANDARD
TZOFFSETFROM:+0000
TZOFFSETTO:+0000
TZNAME:UTC
DTSTART:20200101T000000
END:STANDARD
END:VTIMEZONE
BEGIN:VEVENT
DTSTART;TZID=UTC:20200802T080000
DTEND;TZID=UTC:20200802T170000
DTSTAMP:20260423T195448
CREATED:20200720T191404Z
LAST-MODIFIED:20200720T191404Z
UID:10275-1596355200-1596387600@suppermadesimple.net
SUMMARY:Pulled chicken BBQ with potato salad and sliced tomatoes
DESCRIPTION:
URL:https://suppermadesimple.net/meal/pulled-chicken-bbq-with-potato-salad-and-sliced-tomatoes/
END:VEVENT
END:VCALENDAR