BEGIN:VCALENDAR
VERSION:2.0
PRODID:-//Supper Made Simple - ECPv6.8.3//NONSGML v1.0//EN
CALSCALE:GREGORIAN
METHOD:PUBLISH
X-WR-CALNAME:Supper Made Simple
X-ORIGINAL-URL:https://suppermadesimple.net
X-WR-CALDESC:Events for Supper Made Simple
REFRESH-INTERVAL;VALUE=DURATION:PT1H
X-Robots-Tag:noindex
X-PUBLISHED-TTL:PT1H
BEGIN:VTIMEZONE
TZID:UTC
BEGIN:STANDARD
TZOFFSETFROM:+0000
TZOFFSETTO:+0000
TZNAME:UTC
DTSTART:20200101T000000
END:STANDARD
END:VTIMEZONE
BEGIN:VEVENT
DTSTART;TZID=UTC:20200730T080000
DTEND;TZID=UTC:20200730T170000
DTSTAMP:20260423T195423
CREATED:20200720T191320Z
LAST-MODIFIED:20200720T191320Z
UID:10273-1596096000-1596128400@suppermadesimple.net
SUMMARY:Pork chops with onion gravy\, stuffing and lima beans
DESCRIPTION:Pork chops with onion gravy\, stuffing and lima beans
URL:https://suppermadesimple.net/meal/pork-chops-with-onion-gravy-stuffing-and-lima-beans/
END:VEVENT
END:VCALENDAR