BEGIN:VCALENDAR
VERSION:2.0
PRODID:-//Supper Made Simple - ECPv6.8.3//NONSGML v1.0//EN
CALSCALE:GREGORIAN
METHOD:PUBLISH
X-WR-CALNAME:Supper Made Simple
X-ORIGINAL-URL:https://suppermadesimple.net
X-WR-CALDESC:Events for Supper Made Simple
REFRESH-INTERVAL;VALUE=DURATION:PT1H
X-Robots-Tag:noindex
X-PUBLISHED-TTL:PT1H
BEGIN:VTIMEZONE
TZID:UTC
BEGIN:STANDARD
TZOFFSETFROM:+0000
TZOFFSETTO:+0000
TZNAME:UTC
DTSTART:20200101T000000
END:STANDARD
END:VTIMEZONE
BEGIN:VEVENT
DTSTART;TZID=UTC:20200729T080000
DTEND;TZID=UTC:20200729T170000
DTSTAMP:20260423T195424
CREATED:20200720T191238Z
LAST-MODIFIED:20200720T191238Z
UID:10271-1596009600-1596042000@suppermadesimple.net
SUMMARY:Corn beef with boiled red potatoes\, carrots and fried cabbage
DESCRIPTION:Corn beef with boiled red potatoes\, carrots and fried cabbage
URL:https://suppermadesimple.net/meal/corn-beef-with-boiled-red-potatoes-carrots-and-fried-cabbage/
END:VEVENT
END:VCALENDAR