BEGIN:VCALENDAR
VERSION:2.0
PRODID:-//Supper Made Simple - ECPv6.8.3//NONSGML v1.0//EN
CALSCALE:GREGORIAN
METHOD:PUBLISH
X-ORIGINAL-URL:https://suppermadesimple.net
X-WR-CALDESC:Events for Supper Made Simple
REFRESH-INTERVAL;VALUE=DURATION:PT1H
X-Robots-Tag:noindex
X-PUBLISHED-TTL:PT1H
BEGIN:VTIMEZONE
TZID:UTC
BEGIN:STANDARD
TZOFFSETFROM:+0000
TZOFFSETTO:+0000
TZNAME:UTC
DTSTART:20200101T000000
END:STANDARD
END:VTIMEZONE
BEGIN:VEVENT
DTSTART;TZID=UTC:20200721T080000
DTEND;TZID=UTC:20200721T170000
DTSTAMP:20260423T195448
CREATED:20171220T193951Z
LAST-MODIFIED:20200710T171537Z
UID:9617-1595318400-1595350800@suppermadesimple.net
SUMMARY:Taco Tuesday!!!
DESCRIPTION:Taco Tuesday!! Seasoned ground beef\, soft tortilla shells with Spanish rice and corn and black bean salad garnished with cheddar cheese\, sour cream and salsa on the side
URL:https://suppermadesimple.net/meal/taco-tuesday-2/
END:VEVENT
END:VCALENDAR