BEGIN:VCALENDAR
VERSION:2.0
PRODID:-//Supper Made Simple - ECPv6.8.3//NONSGML v1.0//EN
CALSCALE:GREGORIAN
METHOD:PUBLISH
X-WR-CALNAME:Supper Made Simple
X-ORIGINAL-URL:https://suppermadesimple.net
X-WR-CALDESC:Events for Supper Made Simple
REFRESH-INTERVAL;VALUE=DURATION:PT1H
X-Robots-Tag:noindex
X-PUBLISHED-TTL:PT1H
BEGIN:VTIMEZONE
TZID:UTC
BEGIN:STANDARD
TZOFFSETFROM:+0000
TZOFFSETTO:+0000
TZNAME:UTC
DTSTART:20200101T000000
END:STANDARD
END:VTIMEZONE
BEGIN:VEVENT
DTSTART;TZID=UTC:20200719T080000
DTEND;TZID=UTC:20200719T170000
DTSTAMP:20260423T195418
CREATED:20200710T171419Z
LAST-MODIFIED:20200710T171419Z
UID:10258-1595145600-1595178000@suppermadesimple.net
SUMMARY:Beef tenderloin tips
DESCRIPTION:Beef tenderloin tips in onion gravy with roasted potatoes and broccoli
URL:https://suppermadesimple.net/meal/beef-tenderloin-tips/
END:VEVENT
END:VCALENDAR