BEGIN:VCALENDAR
VERSION:2.0
PRODID:-//Supper Made Simple - ECPv6.8.3//NONSGML v1.0//EN
CALSCALE:GREGORIAN
METHOD:PUBLISH
X-ORIGINAL-URL:https://suppermadesimple.net
X-WR-CALDESC:Events for Supper Made Simple
REFRESH-INTERVAL;VALUE=DURATION:PT1H
X-Robots-Tag:noindex
X-PUBLISHED-TTL:PT1H
BEGIN:VTIMEZONE
TZID:UTC
BEGIN:STANDARD
TZOFFSETFROM:+0000
TZOFFSETTO:+0000
TZNAME:UTC
DTSTART:20200101T000000
END:STANDARD
END:VTIMEZONE
BEGIN:VEVENT
DTSTART;TZID=UTC:20200717T080000
DTEND;TZID=UTC:20200717T170000
DTSTAMP:20260423T195449
CREATED:20200710T171335Z
LAST-MODIFIED:20200710T171335Z
UID:10256-1594972800-1595005200@suppermadesimple.net
SUMMARY:Feta and Spinach stuffed Flounder
DESCRIPTION:Mild filet stuffed with a flavorful combination of feta\, spinach\, Parmesan cheese and herbs served with rice pilaf and asparagus
URL:https://suppermadesimple.net/meal/feta-and-spinach-stuffed-flounder-2/
END:VEVENT
END:VCALENDAR