BEGIN:VCALENDAR
VERSION:2.0
PRODID:-//Supper Made Simple - ECPv6.8.3//NONSGML v1.0//EN
CALSCALE:GREGORIAN
METHOD:PUBLISH
X-WR-CALNAME:Supper Made Simple
X-ORIGINAL-URL:https://suppermadesimple.net
X-WR-CALDESC:Events for Supper Made Simple
REFRESH-INTERVAL;VALUE=DURATION:PT1H
X-Robots-Tag:noindex
X-PUBLISHED-TTL:PT1H
BEGIN:VTIMEZONE
TZID:UTC
BEGIN:STANDARD
TZOFFSETFROM:+0000
TZOFFSETTO:+0000
TZNAME:UTC
DTSTART:20200101T000000
END:STANDARD
END:VTIMEZONE
BEGIN:VEVENT
DTSTART;VALUE=DATE:20200709
DTEND;VALUE=DATE:20200710
DTSTAMP:20260423T194708
CREATED:20160607T191106Z
LAST-MODIFIED:20200625T162631Z
UID:9273-1594252800-1594339199@suppermadesimple.net
SUMMARY:BEEF STUFFED PEPPERS
DESCRIPTION:Southern favorite with a flavorful mix of ground beef and spices roasted in a marinara sauce served with dirty rice and corn.
URL:https://suppermadesimple.net/meal/beef-stuffed-peppers/
END:VEVENT
END:VCALENDAR