BEGIN:VCALENDAR
VERSION:2.0
PRODID:-//Supper Made Simple - ECPv6.8.3//NONSGML v1.0//EN
CALSCALE:GREGORIAN
METHOD:PUBLISH
X-ORIGINAL-URL:https://suppermadesimple.net
X-WR-CALDESC:Events for Supper Made Simple
REFRESH-INTERVAL;VALUE=DURATION:PT1H
X-Robots-Tag:noindex
X-PUBLISHED-TTL:PT1H
BEGIN:VTIMEZONE
TZID:UTC
BEGIN:STANDARD
TZOFFSETFROM:+0000
TZOFFSETTO:+0000
TZNAME:UTC
DTSTART:20200101T000000
END:STANDARD
END:VTIMEZONE
BEGIN:VEVENT
DTSTART;TZID=UTC:20200707T080000
DTEND;TZID=UTC:20200707T170000
DTSTAMP:20260423T195444
CREATED:20200625T162446Z
LAST-MODIFIED:20200625T162446Z
UID:10241-1594108800-1594141200@suppermadesimple.net
SUMMARY:Cheese filled manicotti and meat ravioli combo with homemade sauce and side salad
DESCRIPTION:Cheese filled manicotti and meat ravioli combo with homemade sauce and side salad
URL:https://suppermadesimple.net/meal/cheese-filled-manicotti-and-meat-ravioli-combo-with-homemade-sauce-and-side-salad/
END:VEVENT
END:VCALENDAR