BEGIN:VCALENDAR
VERSION:2.0
PRODID:-//Supper Made Simple - ECPv6.8.3//NONSGML v1.0//EN
CALSCALE:GREGORIAN
METHOD:PUBLISH
X-ORIGINAL-URL:https://suppermadesimple.net
X-WR-CALDESC:Events for Supper Made Simple
REFRESH-INTERVAL;VALUE=DURATION:PT1H
X-Robots-Tag:noindex
X-PUBLISHED-TTL:PT1H
BEGIN:VTIMEZONE
TZID:UTC
BEGIN:STANDARD
TZOFFSETFROM:+0000
TZOFFSETTO:+0000
TZNAME:UTC
DTSTART:20200101T000000
END:STANDARD
END:VTIMEZONE
BEGIN:VEVENT
DTSTART;TZID=UTC:20200630T080000
DTEND;TZID=UTC:20200630T170000
DTSTAMP:20260423T151535
CREATED:20200619T165332Z
LAST-MODIFIED:20200619T165332Z
UID:10232-1593504000-1593536400@suppermadesimple.net
SUMMARY:Garlic butter baked chicken thighs
DESCRIPTION:Oven baked chicken thighs with garlic and butter\, parmesan crusted polenta and Chef select vegetable.
URL:https://suppermadesimple.net/meal/garlic-butter-baked-chicken-thighs/
END:VEVENT
END:VCALENDAR