BEGIN:VCALENDAR
VERSION:2.0
PRODID:-//Supper Made Simple - ECPv6.8.3//NONSGML v1.0//EN
CALSCALE:GREGORIAN
METHOD:PUBLISH
X-WR-CALNAME:Supper Made Simple
X-ORIGINAL-URL:https://suppermadesimple.net
X-WR-CALDESC:Events for Supper Made Simple
REFRESH-INTERVAL;VALUE=DURATION:PT1H
X-Robots-Tag:noindex
X-PUBLISHED-TTL:PT1H
BEGIN:VTIMEZONE
TZID:UTC
BEGIN:STANDARD
TZOFFSETFROM:+0000
TZOFFSETTO:+0000
TZNAME:UTC
DTSTART:20200101T000000
END:STANDARD
END:VTIMEZONE
BEGIN:VEVENT
DTSTART;TZID=UTC:20200612T080000
DTEND;TZID=UTC:20200612T170000
DTSTAMP:20260422T044323
CREATED:20200529T141721Z
LAST-MODIFIED:20200529T141721Z
UID:10205-1591948800-1591981200@suppermadesimple.net
SUMMARY:Oven fried white fish
DESCRIPTION:Oven fried white fish with panko bread crumbs and Old Bay seasoning with tarter sauce\, hush puppies with honey butter and butter beans
URL:https://suppermadesimple.net/meal/oven-fried-white-fish/
END:VEVENT
END:VCALENDAR