BEGIN:VCALENDAR
VERSION:2.0
PRODID:-//Supper Made Simple - ECPv6.8.3//NONSGML v1.0//EN
CALSCALE:GREGORIAN
METHOD:PUBLISH
X-WR-CALNAME:Supper Made Simple
X-ORIGINAL-URL:https://suppermadesimple.net
X-WR-CALDESC:Events for Supper Made Simple
REFRESH-INTERVAL;VALUE=DURATION:PT1H
X-Robots-Tag:noindex
X-PUBLISHED-TTL:PT1H
BEGIN:VTIMEZONE
TZID:UTC
BEGIN:STANDARD
TZOFFSETFROM:+0000
TZOFFSETTO:+0000
TZNAME:UTC
DTSTART:20200101T000000
END:STANDARD
END:VTIMEZONE
BEGIN:VEVENT
DTSTART;TZID=UTC:20200609T080000
DTEND;TZID=UTC:20200609T170000
DTSTAMP:20260422T004458
CREATED:20200529T141451Z
LAST-MODIFIED:20200529T141451Z
UID:10199-1591689600-1591722000@suppermadesimple.net
SUMMARY:Coconut Shrimp
DESCRIPTION:Coconut shrimp with mango salsa\, sweet potato fries and corn on the cob
URL:https://suppermadesimple.net/meal/coconut-shrimp/
END:VEVENT
END:VCALENDAR