BEGIN:VCALENDAR
VERSION:2.0
PRODID:-//Supper Made Simple - ECPv6.8.3//NONSGML v1.0//EN
CALSCALE:GREGORIAN
METHOD:PUBLISH
X-WR-CALNAME:Supper Made Simple
X-ORIGINAL-URL:https://suppermadesimple.net
X-WR-CALDESC:Events for Supper Made Simple
REFRESH-INTERVAL;VALUE=DURATION:PT1H
X-Robots-Tag:noindex
X-PUBLISHED-TTL:PT1H
BEGIN:VTIMEZONE
TZID:UTC
BEGIN:STANDARD
TZOFFSETFROM:+0000
TZOFFSETTO:+0000
TZNAME:UTC
DTSTART:20190101T000000
END:STANDARD
END:VTIMEZONE
BEGIN:VEVENT
DTSTART;TZID=UTC:20190120T080000
DTEND;TZID=UTC:20190120T170000
DTSTAMP:20260422T054355
CREATED:20181228T160221Z
LAST-MODIFIED:20181228T160221Z
UID:9872-1547971200-1548003600@suppermadesimple.net
SUMMARY:Lemon Chicken Pitta with mushrooms\, artichoke hearts and broccoli over angel hair pasta with a side salad
DESCRIPTION:Lemon Chicken Pitta with mushrooms\, artichoke hearts and broccoli over angel hair pasta with a side salad
URL:https://suppermadesimple.net/meal/lemon-chicken-pitta-with-mushrooms-artichoke-hearts-and-broccoli-over-angel-hair-pasta-with-a-side-salad/
END:VEVENT
END:VCALENDAR