BEGIN:VCALENDAR
VERSION:2.0
PRODID:-//Supper Made Simple - ECPv6.8.3//NONSGML v1.0//EN
CALSCALE:GREGORIAN
METHOD:PUBLISH
X-ORIGINAL-URL:https://suppermadesimple.net
X-WR-CALDESC:Events for Supper Made Simple
REFRESH-INTERVAL;VALUE=DURATION:PT1H
X-Robots-Tag:noindex
X-PUBLISHED-TTL:PT1H
BEGIN:VTIMEZONE
TZID:UTC
BEGIN:STANDARD
TZOFFSETFROM:+0000
TZOFFSETTO:+0000
TZNAME:UTC
DTSTART:20190101T000000
END:STANDARD
END:VTIMEZONE
BEGIN:VEVENT
DTSTART;TZID=UTC:20190117T080000
DTEND;TZID=UTC:20190117T170000
DTSTAMP:20260422T020044
CREATED:20180123T200212Z
LAST-MODIFIED:20181228T155913Z
UID:9640-1547712000-1547744400@suppermadesimple.net
SUMMARY:BBQ Pork Chop
DESCRIPTION:BBQ pork chop served with augratin potatoes and lima beans
URL:https://suppermadesimple.net/meal/bbq-pork-chop/
END:VEVENT
END:VCALENDAR