BEGIN:VCALENDAR
VERSION:2.0
PRODID:-//Supper Made Simple - ECPv6.8.3//NONSGML v1.0//EN
CALSCALE:GREGORIAN
METHOD:PUBLISH
X-WR-CALNAME:Supper Made Simple
X-ORIGINAL-URL:https://suppermadesimple.net
X-WR-CALDESC:Events for Supper Made Simple
REFRESH-INTERVAL;VALUE=DURATION:PT1H
X-Robots-Tag:noindex
X-PUBLISHED-TTL:PT1H
BEGIN:VTIMEZONE
TZID:UTC
BEGIN:STANDARD
TZOFFSETFROM:+0000
TZOFFSETTO:+0000
TZNAME:UTC
DTSTART:20190101T000000
END:STANDARD
END:VTIMEZONE
BEGIN:VEVENT
DTSTART;TZID=UTC:20190107T080000
DTEND;TZID=UTC:20190107T170000
DTSTAMP:20260421T111131
CREATED:20180530T171015Z
LAST-MODIFIED:20181228T154852Z
UID:9761-1546848000-1546880400@suppermadesimple.net
SUMMARY:Chicken Cutlet
DESCRIPTION:Chicken Cutlet in butter and memon served with corn and tomato salad and broccoli
URL:https://suppermadesimple.net/meal/chicken-cutlet/
END:VEVENT
END:VCALENDAR