BEGIN:VCALENDAR
VERSION:2.0
PRODID:-//Supper Made Simple - ECPv6.8.3//NONSGML v1.0//EN
CALSCALE:GREGORIAN
METHOD:PUBLISH
X-WR-CALNAME:Supper Made Simple
X-ORIGINAL-URL:https://suppermadesimple.net
X-WR-CALDESC:Events for Supper Made Simple
REFRESH-INTERVAL;VALUE=DURATION:PT1H
X-Robots-Tag:noindex
X-PUBLISHED-TTL:PT1H
BEGIN:VTIMEZONE
TZID:UTC
BEGIN:STANDARD
TZOFFSETFROM:+0000
TZOFFSETTO:+0000
TZNAME:UTC
DTSTART:20160101T000000
END:STANDARD
END:VTIMEZONE
BEGIN:VEVENT
DTSTART;VALUE=DATE:20161117
DTEND;VALUE=DATE:20161118
DTSTAMP:20260421T094528
CREATED:20160607T190337Z
LAST-MODIFIED:20161023T153911Z
UID:9268-1479340800-1479427199@suppermadesimple.net
SUMMARY:CHICKEN PENNE A LA VODKA
DESCRIPTION:Tender chicken breast sliced and served over penne pasta with a slow simmered sauce made with vodka and cream.  Served with a side salad.
URL:https://suppermadesimple.net/meal/chicken-penne-la-vodka/
END:VEVENT
END:VCALENDAR